BEGIN:VCALENDAR
VERSION:2.0
PRODID:-//fayettevilleamez - ECPv6.15.20//NONSGML v1.0//EN
CALSCALE:GREGORIAN
METHOD:PUBLISH
X-WR-CALNAME:fayettevilleamez
X-ORIGINAL-URL:https://fayettevilleamez.org
X-WR-CALDESC:Events for fayettevilleamez
REFRESH-INTERVAL;VALUE=DURATION:PT1H
X-Robots-Tag:noindex
X-PUBLISHED-TTL:PT1H
BEGIN:VTIMEZONE
TZID:UTC
BEGIN:STANDARD
TZOFFSETFROM:+0000
TZOFFSETTO:+0000
TZNAME:UTC
DTSTART:20240101T000000
END:STANDARD
END:VTIMEZONE
BEGIN:VEVENT
DTSTART;TZID=UTC:20250224T190000
DTEND;TZID=UTC:20250224T190000
DTSTAMP:20260424T223219
CREATED:20250127T164419Z
LAST-MODIFIED:20250127T164553Z
UID:1932-1740423600-1740423600@fayettevilleamez.org
SUMMARY:Sunday School Overview via ZOOM
DESCRIPTION:
URL:https://fayettevilleamez.org/event/sunday-school-overview-via-zoom/
ATTACH;FMTTYPE=image/jpeg:https://fayettevilleamez.org/wp-content/uploads/2025/01/FayDistrict_ComingPic.jpg
END:VEVENT
BEGIN:VEVENT
DTSTART;VALUE=DATE:20250218
DTEND;VALUE=DATE:20250219
DTSTAMP:20260424T223219
CREATED:20250127T161454Z
LAST-MODIFIED:20250127T161454Z
UID:1929-1739836800-1739923199@fayettevilleamez.org
SUMMARY:CED Planning meeting
DESCRIPTION:
URL:https://fayettevilleamez.org/event/ced-planning-meeting/
ATTACH;FMTTYPE=image/jpeg:https://fayettevilleamez.org/wp-content/uploads/2025/01/FayDistrict_ComingPic.jpg
END:VEVENT
BEGIN:VEVENT
DTSTART;TZID=UTC:20250216T080000
DTEND;TZID=UTC:20250216T170000
DTSTAMP:20260424T223219
CREATED:20250127T161049Z
LAST-MODIFIED:20250127T161049Z
UID:1925-1739692800-1739725200@fayettevilleamez.org
SUMMARY:MSWF Dinner @TBD
DESCRIPTION:
URL:https://fayettevilleamez.org/event/mswf-dinner-tbd/
ATTACH;FMTTYPE=image/jpeg:https://fayettevilleamez.org/wp-content/uploads/2025/01/FayDistrict_ComingPic.jpg
END:VEVENT
BEGIN:VEVENT
DTSTART;VALUE=DATE:20250215
DTEND;VALUE=DATE:20250216
DTSTAMP:20260424T223219
CREATED:20250127T160116Z
LAST-MODIFIED:20250208T174626Z
UID:1921-1739577600-1739663999@fayettevilleamez.org
SUMMARY:Lay Council & youth mass meeting
DESCRIPTION:
URL:https://fayettevilleamez.org/event/lay-council-youth-mass-meeting/
ATTACH;FMTTYPE=image/jpeg:https://fayettevilleamez.org/wp-content/uploads/2025/01/hOOD-MEMORIAL.jpeg
END:VEVENT
BEGIN:VEVENT
DTSTART;TZID=UTC:20250211T183000
DTEND;TZID=UTC:20250211T210000
DTSTAMP:20260424T223219
CREATED:20250127T155610Z
LAST-MODIFIED:20250127T155631Z
UID:1919-1739298600-1739307600@fayettevilleamez.org
SUMMARY:3rd Session Local Preachers Classes
DESCRIPTION:Zoom Meeting Id: 8561465919
URL:https://fayettevilleamez.org/event/3rd-session-local-preachers-classes/
ATTACH;FMTTYPE=image/jpeg:https://fayettevilleamez.org/wp-content/uploads/2025/01/FayDistrict_ComingPic.jpg
END:VEVENT
BEGIN:VEVENT
DTSTART;VALUE=DATE:20250208
DTEND;VALUE=DATE:20250209
DTSTAMP:20260424T223219
CREATED:20250127T154207Z
LAST-MODIFIED:20250127T154207Z
UID:1917-1738972800-1739059199@fayettevilleamez.org
SUMMARY:Class Leaders Round Table
DESCRIPTION:
URL:https://fayettevilleamez.org/event/class-leaders-round-table/
ATTACH;FMTTYPE=image/jpeg:https://fayettevilleamez.org/wp-content/uploads/2025/01/FayDistrict_ComingPic.jpg
END:VEVENT
BEGIN:VEVENT
DTSTART;TZID=UTC:20250201T080000
DTEND;TZID=UTC:20250201T170000
DTSTAMP:20260424T223219
CREATED:20250127T153814Z
LAST-MODIFIED:20250127T153814Z
UID:1914-1738396800-1738429200@fayettevilleamez.org
SUMMARY:Men's breakfast Meeting
DESCRIPTION:
URL:https://fayettevilleamez.org/event/mens-breakfast-meeting/
ATTACH;FMTTYPE=image/jpeg:https://fayettevilleamez.org/wp-content/uploads/2025/01/FayDistrict_ComingPic.jpg
END:VEVENT
BEGIN:VEVENT
DTSTART;TZID=UTC:20250128T180000
DTEND;TZID=UTC:20250128T180000
DTSTAMP:20260424T223219
CREATED:20250127T153212Z
LAST-MODIFIED:20250127T153223Z
UID:1911-1738087200-1738087200@fayettevilleamez.org
SUMMARY:District ushers Meeting
DESCRIPTION:
URL:https://fayettevilleamez.org/event/district-ushers-meeting/
LOCATION:Hood Memorial
ATTACH;FMTTYPE=image/jpeg:https://fayettevilleamez.org/wp-content/uploads/2025/01/FayDistrict_ComingPic.jpg
END:VEVENT
BEGIN:VEVENT
DTSTART;VALUE=DATE:20250127
DTEND;VALUE=DATE:20250128
DTSTAMP:20260424T223219
CREATED:20250127T160552Z
LAST-MODIFIED:20250127T160552Z
UID:1923-1737936000-1738022399@fayettevilleamez.org
SUMMARY:Youth Mass Meeting
DESCRIPTION:
URL:https://fayettevilleamez.org/event/youth-mass-meeting/
LOCATION:Hood Memorial
ATTACH;FMTTYPE=image/jpeg:https://fayettevilleamez.org/wp-content/uploads/2025/01/FayDistrict_ComingPic.jpg
END:VEVENT
BEGIN:VEVENT
DTSTART;VALUE=DATE:20250111
DTEND;VALUE=DATE:20250115
DTSTAMP:20260424T223219
CREATED:20250127T161235Z
LAST-MODIFIED:20250127T161235Z
UID:1927-1736553600-1736899199@fayettevilleamez.org
SUMMARY:Board of Bishops
DESCRIPTION:
URL:https://fayettevilleamez.org/event/board-of-bishops/
ATTACH;FMTTYPE=image/jpeg:https://fayettevilleamez.org/wp-content/uploads/2025/01/FayDistrict_ComingPic.jpg
END:VEVENT
END:VCALENDAR