BEGIN:VCALENDAR
VERSION:2.0
PRODID:-//fayettevilleamez - ECPv6.15.20//NONSGML v1.0//EN
CALSCALE:GREGORIAN
METHOD:PUBLISH
X-ORIGINAL-URL:https://fayettevilleamez.org
X-WR-CALDESC:Events for fayettevilleamez
REFRESH-INTERVAL;VALUE=DURATION:PT1H
X-Robots-Tag:noindex
X-PUBLISHED-TTL:PT1H
BEGIN:VTIMEZONE
TZID:UTC
BEGIN:STANDARD
TZOFFSETFROM:+0000
TZOFFSETTO:+0000
TZNAME:UTC
DTSTART:20240101T000000
END:STANDARD
END:VTIMEZONE
BEGIN:VEVENT
DTSTART;TZID=UTC:20250719T103000
DTEND;TZID=UTC:20250719T170000
DTSTAMP:20260424T173045
CREATED:20250305T174155Z
LAST-MODIFIED:20250305T174155Z
UID:2484-1752921000-1752944400@fayettevilleamez.org
SUMMARY:Home Mission & Conference Workers
DESCRIPTION:@Rock Springs
URL:https://fayettevilleamez.org/event/home-mission-conference-workers/
ATTACH;FMTTYPE=image/jpeg:https://fayettevilleamez.org/wp-content/uploads/2025/01/FayDistrict_ComingPic.jpg
END:VEVENT
BEGIN:VEVENT
DTSTART;TZID=UTC:20250719T093000
DTEND;TZID=UTC:20250719T170000
DTSTAMP:20260424T173045
CREATED:20250305T173840Z
LAST-MODIFIED:20250305T173840Z
UID:2482-1752917400-1752944400@fayettevilleamez.org
SUMMARY:Parent Body & Bureau Supply Mass Meeting
DESCRIPTION:
URL:https://fayettevilleamez.org/event/parent-body-bureau-supply-mass-meeting/
ATTACH;FMTTYPE=image/jpeg:https://fayettevilleamez.org/wp-content/uploads/2025/01/FayDistrict_ComingPic.jpg
END:VEVENT
BEGIN:VEVENT
DTSTART;TZID=UTC:20250717T190000
DTEND;TZID=UTC:20250717T200000
DTSTAMP:20260424T173045
CREATED:20250305T173740Z
LAST-MODIFIED:20250305T173740Z
UID:2480-1752778800-1752782400@fayettevilleamez.org
SUMMARY:Lay Council Hour of Prayer
DESCRIPTION:
URL:https://fayettevilleamez.org/event/lay-council-hour-of-prayer-6/
ATTACH;FMTTYPE=image/jpeg:https://fayettevilleamez.org/wp-content/uploads/2025/01/FayDistrict_ComingPic.jpg
END:VEVENT
BEGIN:VEVENT
DTSTART;TZID=UTC:20250712T100000
DTEND;TZID=UTC:20250712T140000
DTSTAMP:20260424T173045
CREATED:20250305T173629Z
LAST-MODIFIED:20250305T173629Z
UID:2478-1752314400-1752328800@fayettevilleamez.org
SUMMARY:Farmer's Market
DESCRIPTION:@Simon Temple
URL:https://fayettevilleamez.org/event/farmers-market-3/
ATTACH;FMTTYPE=image/jpeg:https://fayettevilleamez.org/wp-content/uploads/2025/01/FayDistrict_ComingPic.jpg
END:VEVENT
BEGIN:VEVENT
DTSTART;TZID=UTC:20250710T190000
DTEND;TZID=UTC:20250710T190000
DTSTAMP:20260424T173045
CREATED:20250305T173522Z
LAST-MODIFIED:20250305T174748Z
UID:2476-1752174000-1752174000@fayettevilleamez.org
SUMMARY:Lay Council Executive Board Meeting
DESCRIPTION:
URL:https://fayettevilleamez.org/event/lay-council-executive-board-meeting/
ATTACH;FMTTYPE=image/jpeg:https://fayettevilleamez.org/wp-content/uploads/2025/01/FayDistrict_ComingPic.jpg
END:VEVENT
BEGIN:VEVENT
DTSTART;TZID=UTC:20250708T183000
DTEND;TZID=UTC:20250708T210000
DTSTAMP:20260424T173045
CREATED:20250305T173406Z
LAST-MODIFIED:20250305T173406Z
UID:2474-1751999400-1752008400@fayettevilleamez.org
SUMMARY:8th Session Local Preachers
DESCRIPTION:Zoom Meeting ID: 856 146 5919
URL:https://fayettevilleamez.org/event/8th-session-local-preachers/
ATTACH;FMTTYPE=image/jpeg:https://fayettevilleamez.org/wp-content/uploads/2025/01/FayDistrict_ComingPic.jpg
END:VEVENT
BEGIN:VEVENT
DTSTART;VALUE=DATE:20250704
DTEND;VALUE=DATE:20250705
DTSTAMP:20260424T173045
CREATED:20250305T173158Z
LAST-MODIFIED:20250305T173158Z
UID:2472-1751587200-1751673599@fayettevilleamez.org
SUMMARY:Independence Day
DESCRIPTION:
URL:https://fayettevilleamez.org/event/independence-day/
ATTACH;FMTTYPE=image/jpeg:https://fayettevilleamez.org/wp-content/uploads/2025/01/FayDistrict_ComingPic.jpg
END:VEVENT
BEGIN:VEVENT
DTSTART;TZID=UTC:20250629T160000
DTEND;TZID=UTC:20250629T170000
DTSTAMP:20260424T173045
CREATED:20250305T172914Z
LAST-MODIFIED:20250305T172914Z
UID:2470-1751212800-1751216400@fayettevilleamez.org
SUMMARY:Men's Singing union
DESCRIPTION:@Simon Temple
URL:https://fayettevilleamez.org/event/mens-singing-union/
ATTACH;FMTTYPE=image/jpeg:https://fayettevilleamez.org/wp-content/uploads/2025/01/FayDistrict_ComingPic.jpg
END:VEVENT
BEGIN:VEVENT
DTSTART;TZID=UTC:20250626T190000
DTEND;TZID=UTC:20250626T200000
DTSTAMP:20260424T173045
CREATED:20250305T172805Z
LAST-MODIFIED:20250305T172805Z
UID:2468-1750964400-1750968000@fayettevilleamez.org
SUMMARY:Lay Council Hour of Prayer
DESCRIPTION:
URL:https://fayettevilleamez.org/event/lay-council-hour-of-prayer-5/
ATTACH;FMTTYPE=image/jpeg:https://fayettevilleamez.org/wp-content/uploads/2025/01/FayDistrict_ComingPic.jpg
END:VEVENT
BEGIN:VEVENT
DTSTART;TZID=UTC:20250620T180000
DTEND;TZID=UTC:20250621T090000
DTSTAMP:20260424T173045
CREATED:20250305T172637Z
LAST-MODIFIED:20250305T172637Z
UID:2466-1750442400-1750496400@fayettevilleamez.org
SUMMARY:Church School Convention
DESCRIPTION:@Hood Memorial
URL:https://fayettevilleamez.org/event/church-school-convention/
ATTACH;FMTTYPE=image/jpeg:https://fayettevilleamez.org/wp-content/uploads/2025/01/FayDistrict_ComingPic.jpg
END:VEVENT
BEGIN:VEVENT
DTSTART;VALUE=DATE:20250615
DTEND;VALUE=DATE:20250616
DTSTAMP:20260424T173045
CREATED:20250305T172445Z
LAST-MODIFIED:20250305T172504Z
UID:2464-1749945600-1750031999@fayettevilleamez.org
SUMMARY:Father's Day
DESCRIPTION:
URL:https://fayettevilleamez.org/event/fathers-day/
ATTACH;FMTTYPE=image/jpeg:https://fayettevilleamez.org/wp-content/uploads/2025/01/FayDistrict_ComingPic.jpg
END:VEVENT
BEGIN:VEVENT
DTSTART;TZID=UTC:20250614T100000
DTEND;TZID=UTC:20250614T140000
DTSTAMP:20260424T173045
CREATED:20250305T172318Z
LAST-MODIFIED:20250305T172318Z
UID:2461-1749895200-1749909600@fayettevilleamez.org
SUMMARY:Farmer's Market
DESCRIPTION:@Clark’s Chapel
URL:https://fayettevilleamez.org/event/farmers-market-2/
ATTACH;FMTTYPE=image/jpeg:https://fayettevilleamez.org/wp-content/uploads/2025/01/FayDistrict_ComingPic.jpg
END:VEVENT
BEGIN:VEVENT
DTSTART;VALUE=DATE:20250612
DTEND;VALUE=DATE:20250615
DTSTAMP:20260424T173045
CREATED:20250305T172149Z
LAST-MODIFIED:20250305T172149Z
UID:2459-1749686400-1749945599@fayettevilleamez.org
SUMMARY:2025 E N C E D Summer Institute
DESCRIPTION:@TBD
URL:https://fayettevilleamez.org/event/2025-e-n-c-e-d-summer-institute/
ATTACH;FMTTYPE=image/jpeg:https://fayettevilleamez.org/wp-content/uploads/2025/01/FayDistrict_ComingPic.jpg
END:VEVENT
BEGIN:VEVENT
DTSTART;TZID=UTC:20250610T190000
DTEND;TZID=UTC:20250610T190000
DTSTAMP:20260424T173045
CREATED:20250305T171931Z
LAST-MODIFIED:20250305T173002Z
UID:2457-1749582000-1749582000@fayettevilleamez.org
SUMMARY:WHOMS Executive Virtual Board Meeting
DESCRIPTION:
URL:https://fayettevilleamez.org/event/whoms-executive-virtual-board-meeting/
ATTACH;FMTTYPE=image/jpeg:https://fayettevilleamez.org/wp-content/uploads/2025/01/FayDistrict_ComingPic.jpg
END:VEVENT
BEGIN:VEVENT
DTSTART;TZID=UTC:20250610T063000
DTEND;TZID=UTC:20250610T210000
DTSTAMP:20260424T173045
CREATED:20250305T171717Z
LAST-MODIFIED:20250305T171717Z
UID:2455-1749537000-1749589200@fayettevilleamez.org
SUMMARY:7th Session Local Preachers Classes
DESCRIPTION:Zoom Meeting ID: 856 146 5919
URL:https://fayettevilleamez.org/event/7th-session-local-preachers-classes/
ATTACH;FMTTYPE=image/jpeg:https://fayettevilleamez.org/wp-content/uploads/2025/01/FayDistrict_ComingPic.jpg
END:VEVENT
BEGIN:VEVENT
DTSTART;TZID=UTC:20250608T160000
DTEND;TZID=UTC:20250608T170000
DTSTAMP:20260424T173045
CREATED:20250305T164803Z
LAST-MODIFIED:20250305T164803Z
UID:2453-1749398400-1749402000@fayettevilleamez.org
SUMMARY:Acolyte Graduation
DESCRIPTION:@Simon Temple
URL:https://fayettevilleamez.org/event/acolyte-graduation/
ATTACH;FMTTYPE=image/jpeg:https://fayettevilleamez.org/wp-content/uploads/2025/01/FayDistrict_ComingPic.jpg
END:VEVENT
BEGIN:VEVENT
DTSTART;TZID=UTC:20250607T090000
DTEND;TZID=UTC:20250607T120000
DTSTAMP:20260424T173045
CREATED:20250305T164545Z
LAST-MODIFIED:20250305T164545Z
UID:2449-1749286800-1749297600@fayettevilleamez.org
SUMMARY:CED Men's Conference
DESCRIPTION:@Hood Memorial
URL:https://fayettevilleamez.org/event/ced-mens-conference/
ATTACH;FMTTYPE=image/jpeg:https://fayettevilleamez.org/wp-content/uploads/2025/01/FayDistrict_ComingPic.jpg
END:VEVENT
BEGIN:VEVENT
DTSTART;TZID=UTC:20250607T080000
DTEND;TZID=UTC:20250607T170000
DTSTAMP:20260424T173045
CREATED:20250305T164702Z
LAST-MODIFIED:20250305T164702Z
UID:2451-1749283200-1749315600@fayettevilleamez.org
SUMMARY:Missionary Department Walk-A-Mile
DESCRIPTION:
URL:https://fayettevilleamez.org/event/missionary-department-walk-a-mile/
ATTACH;FMTTYPE=image/jpeg:https://fayettevilleamez.org/wp-content/uploads/2025/01/FayDistrict_ComingPic.jpg
END:VEVENT
BEGIN:VEVENT
DTSTART;TZID=UTC:20250602T090000
DTEND;TZID=UTC:20250605T120000
DTSTAMP:20260424T173045
CREATED:20250305T164434Z
LAST-MODIFIED:20250305T164434Z
UID:2447-1748854800-1749124800@fayettevilleamez.org
SUMMARY:Acolyte Training
DESCRIPTION:@Simon Temple
URL:https://fayettevilleamez.org/event/acolyte-training/
ATTACH;FMTTYPE=image/jpeg:https://fayettevilleamez.org/wp-content/uploads/2025/01/FayDistrict_ComingPic.jpg
END:VEVENT
BEGIN:VEVENT
DTSTART;TZID=UTC:20250531T100000
DTEND;TZID=UTC:20250531T170000
DTSTAMP:20260424T173045
CREATED:20250305T164050Z
LAST-MODIFIED:20250305T164050Z
UID:2443-1748685600-1748710800@fayettevilleamez.org
SUMMARY:2nd Check-up Meeting
DESCRIPTION:@Amanah Rush
URL:https://fayettevilleamez.org/event/2nd-check-up-meeting/
ATTACH;FMTTYPE=image/jpeg:https://fayettevilleamez.org/wp-content/uploads/2025/01/FayDistrict_ComingPic.jpg
END:VEVENT
BEGIN:VEVENT
DTSTART;TZID=UTC:20250527T190000
DTEND;TZID=UTC:20250527T190000
DTSTAMP:20260424T173045
CREATED:20250305T163845Z
LAST-MODIFIED:20250305T164246Z
UID:2441-1748372400-1748372400@fayettevilleamez.org
SUMMARY:Sunday School Overview Via ZOOM
DESCRIPTION:
URL:https://fayettevilleamez.org/event/sunday-school-overview-via-zoom-2/
ATTACH;FMTTYPE=image/jpeg:https://fayettevilleamez.org/wp-content/uploads/2025/01/FayDistrict_ComingPic.jpg
END:VEVENT
BEGIN:VEVENT
DTSTART;VALUE=DATE:20250526
DTEND;VALUE=DATE:20250527
DTSTAMP:20260424T173045
CREATED:20250305T163711Z
LAST-MODIFIED:20250305T163711Z
UID:2439-1748217600-1748303999@fayettevilleamez.org
SUMMARY:Memorial Day
DESCRIPTION:
URL:https://fayettevilleamez.org/event/memorial-day/
ATTACH;FMTTYPE=image/jpeg:https://fayettevilleamez.org/wp-content/uploads/2025/01/FayDistrict_ComingPic.jpg
END:VEVENT
BEGIN:VEVENT
DTSTART;TZID=UTC:20250522T190000
DTEND;TZID=UTC:20250522T200000
DTSTAMP:20260424T173045
CREATED:20250305T163612Z
LAST-MODIFIED:20250305T163612Z
UID:2437-1747940400-1747944000@fayettevilleamez.org
SUMMARY:Lay Council Hour of Prayer
DESCRIPTION:
URL:https://fayettevilleamez.org/event/lay-council-hour-of-prayer-4/
ATTACH;FMTTYPE=image/jpeg:https://fayettevilleamez.org/wp-content/uploads/2025/01/FayDistrict_ComingPic.jpg
END:VEVENT
BEGIN:VEVENT
DTSTART;TZID=UTC:20250517T100000
DTEND;TZID=UTC:20250517T170000
DTSTAMP:20260424T173045
CREATED:20250305T163450Z
LAST-MODIFIED:20250305T163450Z
UID:2435-1747476000-1747501200@fayettevilleamez.org
SUMMARY:MSWF Desert Cook-Off
DESCRIPTION:@Hood Memorial
URL:https://fayettevilleamez.org/event/mswf-desert-cook-off/
ATTACH;FMTTYPE=image/jpeg:https://fayettevilleamez.org/wp-content/uploads/2025/01/FayDistrict_ComingPic.jpg
END:VEVENT
BEGIN:VEVENT
DTSTART;TZID=UTC:20250517T100000
DTEND;TZID=UTC:20250517T170000
DTSTAMP:20260424T173045
CREATED:20250305T163334Z
LAST-MODIFIED:20250305T163334Z
UID:2433-1747476000-1747501200@fayettevilleamez.org
SUMMARY:2nd Pre-Check Up Meeting
DESCRIPTION:@Hood Memorial
URL:https://fayettevilleamez.org/event/2nd-pre-check-up-meeting/
ATTACH;FMTTYPE=image/jpeg:https://fayettevilleamez.org/wp-content/uploads/2025/01/FayDistrict_ComingPic.jpg
END:VEVENT
BEGIN:VEVENT
DTSTART;TZID=UTC:20250513T190000
DTEND;TZID=UTC:20250513T190000
DTSTAMP:20260424T173045
CREATED:20250305T163113Z
LAST-MODIFIED:20250305T164157Z
UID:2431-1747162800-1747162800@fayettevilleamez.org
SUMMARY:WHOMS Executive Board Virtual Meeting
DESCRIPTION:
URL:https://fayettevilleamez.org/event/whoms-executive-board-virtual-meeting/
ATTACH;FMTTYPE=image/jpeg:https://fayettevilleamez.org/wp-content/uploads/2025/01/FayDistrict_ComingPic.jpg
END:VEVENT
BEGIN:VEVENT
DTSTART;TZID=UTC:20250511T080000
DTEND;TZID=UTC:20250511T170000
DTSTAMP:20260424T173045
CREATED:20250305T162943Z
LAST-MODIFIED:20250305T162943Z
UID:2429-1746950400-1746982800@fayettevilleamez.org
SUMMARY:Mother's Day
DESCRIPTION:
URL:https://fayettevilleamez.org/event/mothers-day/
ATTACH;FMTTYPE=image/jpeg:https://fayettevilleamez.org/wp-content/uploads/2025/01/FayDistrict_ComingPic.jpg
END:VEVENT
BEGIN:VEVENT
DTSTART;TZID=UTC:20250506T183000
DTEND;TZID=UTC:20250506T210000
DTSTAMP:20260424T173045
CREATED:20250305T162829Z
LAST-MODIFIED:20250305T162845Z
UID:2427-1746556200-1746565200@fayettevilleamez.org
SUMMARY:6th Session Local Preachers Classes
DESCRIPTION:Zoom Meeting ID: 856 146 5919
URL:https://fayettevilleamez.org/event/6th-session-local-preachers-classes/
ATTACH;FMTTYPE=image/jpeg:https://fayettevilleamez.org/wp-content/uploads/2025/01/FayDistrict_ComingPic.jpg
END:VEVENT
BEGIN:VEVENT
DTSTART;TZID=UTC:20250503T100000
DTEND;TZID=UTC:20250503T140000
DTSTAMP:20260424T173045
CREATED:20250305T162651Z
LAST-MODIFIED:20250305T162651Z
UID:2425-1746266400-1746280800@fayettevilleamez.org
SUMMARY:Farmer's Market
DESCRIPTION:@Mt. Hebrew
URL:https://fayettevilleamez.org/event/farmers-market/
ATTACH;FMTTYPE=image/jpeg:https://fayettevilleamez.org/wp-content/uploads/2025/01/FayDistrict_ComingPic.jpg
END:VEVENT
BEGIN:VEVENT
DTSTART;TZID=UTC:20250503T090000
DTEND;TZID=UTC:20250503T170000
DTSTAMP:20260424T173045
CREATED:20250305T162522Z
LAST-MODIFIED:20250305T162522Z
UID:2423-1746262800-1746291600@fayettevilleamez.org
SUMMARY:Lay Council Meeting
DESCRIPTION:@Mt. Hebreq
URL:https://fayettevilleamez.org/event/lay-council-meeting-2/
ATTACH;FMTTYPE=image/jpeg:https://fayettevilleamez.org/wp-content/uploads/2025/01/FayDistrict_ComingPic.jpg
END:VEVENT
END:VCALENDAR