BEGIN:VCALENDAR
VERSION:2.0
PRODID:-//fayettevilleamez - ECPv6.15.20//NONSGML v1.0//EN
CALSCALE:GREGORIAN
METHOD:PUBLISH
X-ORIGINAL-URL:https://fayettevilleamez.org
X-WR-CALDESC:Events for fayettevilleamez
REFRESH-INTERVAL;VALUE=DURATION:PT1H
X-Robots-Tag:noindex
X-PUBLISHED-TTL:PT1H
BEGIN:VTIMEZONE
TZID:UTC
BEGIN:STANDARD
TZOFFSETFROM:+0000
TZOFFSETTO:+0000
TZNAME:UTC
DTSTART:20240101T000000
END:STANDARD
END:VTIMEZONE
BEGIN:VEVENT
DTSTART;TZID=UTC:20251120T190000
DTEND;TZID=UTC:20251120T200000
DTSTAMP:20260424T145527
CREATED:20250305T181917Z
LAST-MODIFIED:20250305T181917Z
UID:2530-1763665200-1763668800@fayettevilleamez.org
SUMMARY:Lay Council Hour of Prayer
DESCRIPTION:
URL:https://fayettevilleamez.org/event/lay-council-hour-of-prayer-9/
ATTACH;FMTTYPE=image/jpeg:https://fayettevilleamez.org/wp-content/uploads/2025/01/FayDistrict_ComingPic.jpg
END:VEVENT
BEGIN:VEVENT
DTSTART;TZID=UTC:20251115T100000
DTEND;TZID=UTC:20251115T140000
DTSTAMP:20260424T145527
CREATED:20250305T181758Z
LAST-MODIFIED:20250305T181823Z
UID:2527-1763200800-1763215200@fayettevilleamez.org
SUMMARY:Farmer's Market
DESCRIPTION:@Mt. Hebrew
URL:https://fayettevilleamez.org/event/farmers-market-6/
ATTACH;FMTTYPE=image/jpeg:https://fayettevilleamez.org/wp-content/uploads/2025/01/FayDistrict_ComingPic.jpg
END:VEVENT
BEGIN:VEVENT
DTSTART;VALUE=DATE:20251106
DTEND;VALUE=DATE:20251110
DTSTAMP:20260424T145527
CREATED:20250305T181527Z
LAST-MODIFIED:20250305T181527Z
UID:2523-1762387200-1762732799@fayettevilleamez.org
SUMMARY:2025 146th Session\, Annual Conference
DESCRIPTION:St. Mark\, Durham\, NC
URL:https://fayettevilleamez.org/event/2025-146th-session-annual-conference/
LOCATION:St.Mark\, Durham\, NC\, NC\, United States
ATTACH;FMTTYPE=image/jpeg:https://fayettevilleamez.org/wp-content/uploads/2025/01/FayDistrict_ComingPic.jpg
END:VEVENT
BEGIN:VEVENT
DTSTART;TZID=UTC:20251028T180000
DTEND;TZID=UTC:20251028T180000
DTSTAMP:20260424T145527
CREATED:20250305T182917Z
LAST-MODIFIED:20250305T182941Z
UID:2542-1761674400-1761674400@fayettevilleamez.org
SUMMARY:District Ushers Meeting
DESCRIPTION:@Hood Memorial
URL:https://fayettevilleamez.org/event/district-ushers-meeting-3/
ATTACH;FMTTYPE=image/jpeg:https://fayettevilleamez.org/wp-content/uploads/2025/01/FayDistrict_ComingPic.jpg
END:VEVENT
BEGIN:VEVENT
DTSTART;TZID=UTC:20251024T190000
DTEND;TZID=UTC:20251024T200000
DTSTAMP:20260424T145527
CREATED:20250305T182810Z
LAST-MODIFIED:20250305T182810Z
UID:2540-1761332400-1761336000@fayettevilleamez.org
SUMMARY:Lay Council Hour of Prayer
DESCRIPTION:
URL:https://fayettevilleamez.org/event/lay-council-hour-of-prayer-10/
ATTACH;FMTTYPE=image/jpeg:https://fayettevilleamez.org/wp-content/uploads/2025/01/FayDistrict_ComingPic.jpg
END:VEVENT
BEGIN:VEVENT
DTSTART;TZID=UTC:20251020T190000
DTEND;TZID=UTC:20251020T190000
DTSTAMP:20260424T145527
CREATED:20250305T182709Z
LAST-MODIFIED:20250305T182714Z
UID:2538-1760986800-1760986800@fayettevilleamez.org
SUMMARY:MSWF Meeting
DESCRIPTION:via ZOOM
URL:https://fayettevilleamez.org/event/mswf-meeting/
ATTACH;FMTTYPE=image/jpeg:https://fayettevilleamez.org/wp-content/uploads/2025/01/FayDistrict_ComingPic.jpg
END:VEVENT
BEGIN:VEVENT
DTSTART;TZID=UTC:20251018T100000
DTEND;TZID=UTC:20251018T170000
DTSTAMP:20260424T145527
CREATED:20250305T182548Z
LAST-MODIFIED:20250305T182548Z
UID:2536-1760781600-1760806800@fayettevilleamez.org
SUMMARY:Pre-Annual Conference Meeting
DESCRIPTION:@Simon Temple
URL:https://fayettevilleamez.org/event/pre-annual-conference-meeting/
ATTACH;FMTTYPE=image/jpeg:https://fayettevilleamez.org/wp-content/uploads/2025/01/FayDistrict_ComingPic.jpg
END:VEVENT
BEGIN:VEVENT
DTSTART;TZID=UTC:20251012T160000
DTEND;TZID=UTC:20251012T170000
DTSTAMP:20260424T145527
CREATED:20250305T182413Z
LAST-MODIFIED:20250305T182413Z
UID:2534-1760284800-1760288400@fayettevilleamez.org
SUMMARY:Presiding Elders Appreciation
DESCRIPTION:@Simon Temple
URL:https://fayettevilleamez.org/event/presiding-elders-appreciation/
ATTACH;FMTTYPE=image/jpeg:https://fayettevilleamez.org/wp-content/uploads/2025/01/FayDistrict_ComingPic.jpg
END:VEVENT
BEGIN:VEVENT
DTSTART;TZID=UTC:20251011T100000
DTEND;TZID=UTC:20251011T140000
DTSTAMP:20260424T145527
CREATED:20250305T182144Z
LAST-MODIFIED:20250305T182144Z
UID:2532-1760176800-1760191200@fayettevilleamez.org
SUMMARY:Farmer's Market
DESCRIPTION:@Mt.Hebrew
URL:https://fayettevilleamez.org/event/farmers-market-7/
ATTACH;FMTTYPE=image/jpeg:https://fayettevilleamez.org/wp-content/uploads/2025/01/FayDistrict_ComingPic.jpg
END:VEVENT
BEGIN:VEVENT
DTSTART;TZID=UTC:20250925T190000
DTEND;TZID=UTC:20250925T200000
DTSTAMP:20260424T145527
CREATED:20250305T181314Z
LAST-MODIFIED:20250305T181314Z
UID:2521-1758826800-1758830400@fayettevilleamez.org
SUMMARY:Lay Council Hour of Prayer
DESCRIPTION:
URL:https://fayettevilleamez.org/event/lay-council-hour-of-prayer-8/
ATTACH;FMTTYPE=image/jpeg:https://fayettevilleamez.org/wp-content/uploads/2025/01/FayDistrict_ComingPic.jpg
END:VEVENT
BEGIN:VEVENT
DTSTART;TZID=UTC:20250921T150000
DTEND;TZID=UTC:20250921T170000
DTSTAMP:20260424T145527
CREATED:20250305T181052Z
LAST-MODIFIED:20250305T181215Z
UID:2518-1758466800-1758474000@fayettevilleamez.org
SUMMARY:Fayetteville District Conference
DESCRIPTION:@Evans Metropolitan
URL:https://fayettevilleamez.org/event/fayetteville-district-conference/
ATTACH;FMTTYPE=image/jpeg:https://fayettevilleamez.org/wp-content/uploads/2025/01/FayDistrict_ComingPic.jpg
END:VEVENT
BEGIN:VEVENT
DTSTART;TZID=UTC:20250920T160000
DTEND;TZID=UTC:20250920T170000
DTSTAMP:20260424T145527
CREATED:20250305T180902Z
LAST-MODIFIED:20250305T180902Z
UID:2516-1758384000-1758387600@fayettevilleamez.org
SUMMARY:Children & Youth Back-to-school Worship Service
DESCRIPTION:
URL:https://fayettevilleamez.org/event/children-youth-back-to-school-worship-service/
ATTACH;FMTTYPE=image/jpeg:https://fayettevilleamez.org/wp-content/uploads/2025/01/FayDistrict_ComingPic.jpg
END:VEVENT
BEGIN:VEVENT
DTSTART;TZID=UTC:20250913T100000
DTEND;TZID=UTC:20250913T140000
DTSTAMP:20260424T145527
CREATED:20250305T180648Z
LAST-MODIFIED:20250305T180648Z
UID:2513-1757757600-1757772000@fayettevilleamez.org
SUMMARY:Farmer's Market
DESCRIPTION:@Clarks Chapel\, Tarheel\, NC
URL:https://fayettevilleamez.org/event/farmers-market-5/
LOCATION:Clarkss Chapel\, Tarheel\, NC\, NC\, United States
ATTACH;FMTTYPE=image/jpeg:https://fayettevilleamez.org/wp-content/uploads/2025/01/FayDistrict_ComingPic.jpg
END:VEVENT
BEGIN:VEVENT
DTSTART;TZID=UTC:20250906T100000
DTEND;TZID=UTC:20250906T170000
DTSTAMP:20260424T145527
CREATED:20250305T180436Z
LAST-MODIFIED:20250305T180436Z
UID:2509-1757152800-1757178000@fayettevilleamez.org
SUMMARY:Check-Up Meeting
DESCRIPTION:@Cameron Grove
URL:https://fayettevilleamez.org/event/check-up-meeting-2/
LOCATION:Broadway\,NC\, Broadway\, NC\, NC\, United States
ATTACH;FMTTYPE=image/jpeg:https://fayettevilleamez.org/wp-content/uploads/2025/01/FayDistrict_ComingPic.jpg
END:VEVENT
BEGIN:VEVENT
DTSTART;VALUE=DATE:20250901
DTEND;VALUE=DATE:20250902
DTSTAMP:20260424T145527
CREATED:20250305T180139Z
LAST-MODIFIED:20250305T180139Z
UID:2507-1756684800-1756771199@fayettevilleamez.org
SUMMARY:Labor Day
DESCRIPTION:
URL:https://fayettevilleamez.org/event/labor-day/
ATTACH;FMTTYPE=image/jpeg:https://fayettevilleamez.org/wp-content/uploads/2025/01/FayDistrict_ComingPic.jpg
END:VEVENT
BEGIN:VEVENT
DTSTART;TZID=UTC:20250831T160000
DTEND;TZID=UTC:20250831T170000
DTSTAMP:20260424T145527
CREATED:20250305T175552Z
LAST-MODIFIED:20250305T175552Z
UID:2502-1756656000-1756659600@fayettevilleamez.org
SUMMARY:Men's Singing Union's Anniversary Celebration
DESCRIPTION:@Hood Memorial
URL:https://fayettevilleamez.org/event/mens-singing-unions-anniversary-celebration/
ATTACH;FMTTYPE=image/jpeg:https://fayettevilleamez.org/wp-content/uploads/2025/01/FayDistrict_ComingPic.jpg
END:VEVENT
BEGIN:VEVENT
DTSTART;TZID=UTC:20250825T190000
DTEND;TZID=UTC:20250825T190000
DTSTAMP:20260424T145527
CREATED:20250305T175340Z
LAST-MODIFIED:20250305T180004Z
UID:2498-1756148400-1756148400@fayettevilleamez.org
SUMMARY:Sunday School Overview
DESCRIPTION:via ZOOM
URL:https://fayettevilleamez.org/event/sunday-school-overview/
ATTACH;FMTTYPE=image/jpeg:https://fayettevilleamez.org/wp-content/uploads/2025/01/FayDistrict_ComingPic.jpg
END:VEVENT
BEGIN:VEVENT
DTSTART;TZID=UTC:20250822T190000
DTEND;TZID=UTC:20250822T200000
DTSTAMP:20260424T145527
CREATED:20250305T175443Z
LAST-MODIFIED:20250305T175917Z
UID:2500-1755889200-1755892800@fayettevilleamez.org
SUMMARY:Lay Council Hour of Prayer
DESCRIPTION:@Mt.Hebrew
URL:https://fayettevilleamez.org/event/lay-council-hour-of-prayer-7/
ATTACH;FMTTYPE=image/jpeg:https://fayettevilleamez.org/wp-content/uploads/2025/01/FayDistrict_ComingPic.jpg
END:VEVENT
BEGIN:VEVENT
DTSTART;TZID=UTC:20250816T100000
DTEND;TZID=UTC:20250816T140000
DTSTAMP:20260424T145527
CREATED:20250305T175754Z
LAST-MODIFIED:20250305T175754Z
UID:2504-1755338400-1755352800@fayettevilleamez.org
SUMMARY:Farmer's Market
DESCRIPTION:@Mt.Hebrew
URL:https://fayettevilleamez.org/event/farmers-market-4/
ATTACH;FMTTYPE=image/jpeg:https://fayettevilleamez.org/wp-content/uploads/2025/01/FayDistrict_ComingPic.jpg
END:VEVENT
BEGIN:VEVENT
DTSTART;TZID=UTC:20250816T090000
DTEND;TZID=UTC:20250816T170000
DTSTAMP:20260424T145527
CREATED:20250305T175234Z
LAST-MODIFIED:20250305T175234Z
UID:2495-1755334800-1755363600@fayettevilleamez.org
SUMMARY:Lay Council Meeting
DESCRIPTION:@Mt.Hebrew
URL:https://fayettevilleamez.org/event/lay-council-meeting-3/
ATTACH;FMTTYPE=image/jpeg:https://fayettevilleamez.org/wp-content/uploads/2025/01/FayDistrict_ComingPic.jpg
END:VEVENT
BEGIN:VEVENT
DTSTART;TZID=UTC:20250816T090000
DTEND;TZID=UTC:20250816T170000
DTSTAMP:20260424T145527
CREATED:20250305T175114Z
LAST-MODIFIED:20250305T175114Z
UID:2493-1755334800-1755363600@fayettevilleamez.org
SUMMARY:Pre-Check Up Meeting
DESCRIPTION:@Mt.Hebrew
URL:https://fayettevilleamez.org/event/pre-check-up-meeting/
ATTACH;FMTTYPE=image/jpeg:https://fayettevilleamez.org/wp-content/uploads/2025/01/FayDistrict_ComingPic.jpg
END:VEVENT
BEGIN:VEVENT
DTSTART;TZID=UTC:20250809T100000
DTEND;TZID=UTC:20250809T140000
DTSTAMP:20260424T145527
CREATED:20250305T174650Z
LAST-MODIFIED:20250305T174650Z
UID:2491-1754733600-1754748000@fayettevilleamez.org
SUMMARY:Back-to-School Jam Community Event
DESCRIPTION:@Local Churches
URL:https://fayettevilleamez.org/event/back-to-school-jam-community-event/
ATTACH;FMTTYPE=image/jpeg:https://fayettevilleamez.org/wp-content/uploads/2025/01/FayDistrict_ComingPic.jpg
END:VEVENT
BEGIN:VEVENT
DTSTART;TZID=UTC:20250722T183000
DTEND;TZID=UTC:20250722T210000
DTSTAMP:20260424T145527
CREATED:20250305T174319Z
LAST-MODIFIED:20250305T174341Z
UID:2487-1753209000-1753218000@fayettevilleamez.org
SUMMARY:9th Local Preacher's Session Final Class or Final Exam
DESCRIPTION:
URL:https://fayettevilleamez.org/event/9th-local-preachers-session-final-class-or-final-exam/
ATTACH;FMTTYPE=image/jpeg:https://fayettevilleamez.org/wp-content/uploads/2025/01/FayDistrict_ComingPic.jpg
END:VEVENT
BEGIN:VEVENT
DTSTART;TZID=UTC:20250722T180000
DTEND;TZID=UTC:20250722T180000
DTSTAMP:20260424T145527
CREATED:20250305T174518Z
LAST-MODIFIED:20250305T174849Z
UID:2489-1753207200-1753207200@fayettevilleamez.org
SUMMARY:District Ushers Meeting
DESCRIPTION:@Hood Meeting
URL:https://fayettevilleamez.org/event/district-ushers-meeting-2/
ATTACH;FMTTYPE=image/jpeg:https://fayettevilleamez.org/wp-content/uploads/2025/01/FayDistrict_ComingPic.jpg
END:VEVENT
BEGIN:VEVENT
DTSTART;TZID=UTC:20250719T103000
DTEND;TZID=UTC:20250719T170000
DTSTAMP:20260424T145527
CREATED:20250305T174155Z
LAST-MODIFIED:20250305T174155Z
UID:2484-1752921000-1752944400@fayettevilleamez.org
SUMMARY:Home Mission & Conference Workers
DESCRIPTION:@Rock Springs
URL:https://fayettevilleamez.org/event/home-mission-conference-workers/
ATTACH;FMTTYPE=image/jpeg:https://fayettevilleamez.org/wp-content/uploads/2025/01/FayDistrict_ComingPic.jpg
END:VEVENT
BEGIN:VEVENT
DTSTART;TZID=UTC:20250719T093000
DTEND;TZID=UTC:20250719T170000
DTSTAMP:20260424T145527
CREATED:20250305T173840Z
LAST-MODIFIED:20250305T173840Z
UID:2482-1752917400-1752944400@fayettevilleamez.org
SUMMARY:Parent Body & Bureau Supply Mass Meeting
DESCRIPTION:
URL:https://fayettevilleamez.org/event/parent-body-bureau-supply-mass-meeting/
ATTACH;FMTTYPE=image/jpeg:https://fayettevilleamez.org/wp-content/uploads/2025/01/FayDistrict_ComingPic.jpg
END:VEVENT
BEGIN:VEVENT
DTSTART;TZID=UTC:20250717T190000
DTEND;TZID=UTC:20250717T200000
DTSTAMP:20260424T145527
CREATED:20250305T173740Z
LAST-MODIFIED:20250305T173740Z
UID:2480-1752778800-1752782400@fayettevilleamez.org
SUMMARY:Lay Council Hour of Prayer
DESCRIPTION:
URL:https://fayettevilleamez.org/event/lay-council-hour-of-prayer-6/
ATTACH;FMTTYPE=image/jpeg:https://fayettevilleamez.org/wp-content/uploads/2025/01/FayDistrict_ComingPic.jpg
END:VEVENT
BEGIN:VEVENT
DTSTART;TZID=UTC:20250712T100000
DTEND;TZID=UTC:20250712T140000
DTSTAMP:20260424T145527
CREATED:20250305T173629Z
LAST-MODIFIED:20250305T173629Z
UID:2478-1752314400-1752328800@fayettevilleamez.org
SUMMARY:Farmer's Market
DESCRIPTION:@Simon Temple
URL:https://fayettevilleamez.org/event/farmers-market-3/
ATTACH;FMTTYPE=image/jpeg:https://fayettevilleamez.org/wp-content/uploads/2025/01/FayDistrict_ComingPic.jpg
END:VEVENT
BEGIN:VEVENT
DTSTART;TZID=UTC:20250710T190000
DTEND;TZID=UTC:20250710T190000
DTSTAMP:20260424T145527
CREATED:20250305T173522Z
LAST-MODIFIED:20250305T174748Z
UID:2476-1752174000-1752174000@fayettevilleamez.org
SUMMARY:Lay Council Executive Board Meeting
DESCRIPTION:
URL:https://fayettevilleamez.org/event/lay-council-executive-board-meeting/
ATTACH;FMTTYPE=image/jpeg:https://fayettevilleamez.org/wp-content/uploads/2025/01/FayDistrict_ComingPic.jpg
END:VEVENT
BEGIN:VEVENT
DTSTART;TZID=UTC:20250708T183000
DTEND;TZID=UTC:20250708T210000
DTSTAMP:20260424T145527
CREATED:20250305T173406Z
LAST-MODIFIED:20250305T173406Z
UID:2474-1751999400-1752008400@fayettevilleamez.org
SUMMARY:8th Session Local Preachers
DESCRIPTION:Zoom Meeting ID: 856 146 5919
URL:https://fayettevilleamez.org/event/8th-session-local-preachers/
ATTACH;FMTTYPE=image/jpeg:https://fayettevilleamez.org/wp-content/uploads/2025/01/FayDistrict_ComingPic.jpg
END:VEVENT
END:VCALENDAR